BEGIN:VCALENDAR
VERSION:2.0
PRODID:-//Mostarsko ljeto - ECPv5.16.2.1//NONSGML v1.0//EN
CALSCALE:GREGORIAN
METHOD:PUBLISH
X-ORIGINAL-URL:https://www.mostarskoljeto.ba
X-WR-CALDESC:Events for Mostarsko ljeto
REFRESH-INTERVAL;VALUE=DURATION:PT1H
X-Robots-Tag:noindex
X-PUBLISHED-TTL:PT1H
BEGIN:VTIMEZONE
TZID:Europe/Sarajevo
BEGIN:DAYLIGHT
TZOFFSETFROM:+0100
TZOFFSETTO:+0200
TZNAME:CEST
DTSTART:20250330T010000
END:DAYLIGHT
BEGIN:STANDARD
TZOFFSETFROM:+0200
TZOFFSETTO:+0100
TZNAME:CET
DTSTART:20251026T010000
END:STANDARD
END:VTIMEZONE
BEGIN:VEVENT
DTSTART;TZID=Europe/Sarajevo:20250712T200000
DTEND;TZID=Europe/Sarajevo:20250712T213000
DTSTAMP:20260424T100637
CREATED:20250626T225346Z
LAST-MODIFIED:20250626T225346Z
UID:13806-1752350400-1752355800@www.mostarskoljeto.ba
SUMMARY:Predstava "Hasanaginica"
DESCRIPTION:
URL:https://www.mostarskoljeto.ba/kalendar/predstava-hasanaginica/
LOCATION:Narodno pozorište Mostar\, Brkića 2\, Mostar\, 88000
CATEGORIES:Mostarsko ljeto 2025,Predstava
ATTACH;FMTTYPE=image/jpeg:https://www.mostarskoljeto.ba/wp-content/uploads/2025/06/mediji.jpg
END:VEVENT
END:VCALENDAR