BEGIN:VCALENDAR
VERSION:2.0
PRODID:-//Mostarsko ljeto - ECPv5.16.2.1//NONSGML v1.0//EN
CALSCALE:GREGORIAN
METHOD:PUBLISH
X-ORIGINAL-URL:https://www.mostarskoljeto.ba
X-WR-CALDESC:Events for Mostarsko ljeto
REFRESH-INTERVAL;VALUE=DURATION:PT1H
X-Robots-Tag:noindex
X-PUBLISHED-TTL:PT1H
BEGIN:VTIMEZONE
TZID:Europe/Sarajevo
BEGIN:DAYLIGHT
TZOFFSETFROM:+0100
TZOFFSETTO:+0200
TZNAME:CEST
DTSTART:20240331T010000
END:DAYLIGHT
BEGIN:STANDARD
TZOFFSETFROM:+0200
TZOFFSETTO:+0100
TZNAME:CET
DTSTART:20241027T010000
END:STANDARD
END:VTIMEZONE
BEGIN:VEVENT
DTSTART;TZID=Europe/Sarajevo:20240710T200000
DTEND;TZID=Europe/Sarajevo:20240710T203500
DTSTAMP:20260425T043639
CREATED:20240619T140332Z
LAST-MODIFIED:20240710T074556Z
UID:13411-1720641600-1720643700@www.mostarskoljeto.ba
SUMMARY:Bilo jednom jedno jaje
DESCRIPTION:U Pozorištu lutaka u Mostaru u srijedu\, 10.07.\, bit će izvedena predstava “Bilo jednom jedno jaje” autora Saše Eržena\, u režiji Silvana Omerzu\, sa početkom u 19 sati.\n“Predstava „Bilo jednom jedno jaje“ oživljava životinjske likove Lisice\, Vuka\, Zeca i Medvjeda. Ovdje životinje imaju ljudske karakteristike koje im se pripisuju u basnama.\nZec pronalazi jaje usred šume. Šumske životinje se pitaju odakle ono dolazi\, čije je i šta da rade s njim. Personificirane životinje vode ovu priču i dovode je do iznenađujućeg kraja. Susrećemo se sa karakterističnim ljudskim osobinama\, poput plahovitosti\, hrabrosti\, lukavstva\, snage i\, prije svega\, radoznalosti. Djeca kroz ovu predstavu uče o svim ovim osobinama ličnosti i nastavit će o njima učiti kroz međuljudske odnose.\nPredstava „Bilo jednom jedno jaje“ izvodi se na minimalističkoj sceni sa drvenim lutkama vođenim otpozada. To je jednostavnija verzija tradicionalnih japanskih bunraku lutaka.” – Silvan Omerzu\nU predstavi igraju: Lejla Pajić\, Ena Husić\, Ali Kamer Aksoy i Tarik Bajramović.
URL:https://www.mostarskoljeto.ba/kalendar/bilo-jednom-jedno-jaje/
LOCATION:Pozorište lutaka Mostar\, Braće Ćišića 15\, Mostar\, Hercegovacko-neretvanski Kanton\, 88104\, Bosnia and Herzegovina
CATEGORIES:Mostarsko ljeto 2024,Predstava
ATTACH;FMTTYPE=image/jpeg:https://www.mostarskoljeto.ba/wp-content/uploads/2024/06/mlj24_kalendar_2.jpg
END:VEVENT
BEGIN:VEVENT
DTSTART;TZID=Europe/Sarajevo:20240713T200000
DTEND;TZID=Europe/Sarajevo:20240713T210000
DTSTAMP:20260425T043639
CREATED:20240619T141044Z
LAST-MODIFIED:20240621T171731Z
UID:13417-1720900800-1720904400@www.mostarskoljeto.ba
SUMMARY:Državni lopov
DESCRIPTION:U Narodnom pozorištu Mostar u subotu\, 13.07.\, bit će izvedena predstava “Državni lopov” autora Fadila Hadžića\, u režiji kolektiva\, nastala u produkciji Studio Teatra\, sa početkom u 20 sati.\nKomedija „Državni lopov“ je jedna od najstarijih živih predstava u Bosni i Hercegovini\, a premijerno izvođenje imala je 2005. godine u Centru za kulturu Zavidovići. U toj početnoj glumačkoj postavi igrali su: Nusmir Muahremović\, Irfan Kasumović i Adem Smailhodžić.\nPredstava počinje kada se Kikiju\, ljubavnom varalici\, u ćeliji pridružuje Marko\, “državni lopov”\, koji\, čak i u zatvoru\, ima povlašten status. Kiki\, ljubavni varalica\, u zatvoru je završio zbog lažnih obećanja. Naime\, on je sedamnaest puta obećao da će se ženiti sa sedamnaest različitih žena. Na kraju je zbog jedne od njih i zavšio u zatvoru. Marko\, “državni lopov”\, je pronevjerio državni novac\, ali će vjerovatno vrlo brzo biti pušten\, jer se pronašla neka „rupa“ u zakonu. Njihov međusobni sukob upotpunjuje zatvorski čuvar Jozo\, koji\, iako nema završenu osnovnu školu\, želi da napreduje.\nKomedija „Državni lopov“ spada u red najizvođenijih živih predstava u Bosni i Hercegovini\, a istu je pogledalo preko 100 hiljada ljudi\, kako u Bosni i Hercegovini\, tako i u regionu.\nU predstavi igraju: Nusmir Muharemović\, Irfan Kasumović i Mirza Mušija.
URL:https://www.mostarskoljeto.ba/kalendar/drzavni-lopov/
LOCATION:Narodno pozorište Mostar\, Brkića 2\, Mostar\, 88000
CATEGORIES:Mostarsko ljeto 2024,Predstava
ATTACH;FMTTYPE=image/jpeg:https://www.mostarskoljeto.ba/wp-content/uploads/2024/06/mlj24_kalendar_3.jpg
END:VEVENT
BEGIN:VEVENT
DTSTART;TZID=Europe/Sarajevo:20240727T210000
DTEND;TZID=Europe/Sarajevo:20240727T220000
DTSTAMP:20260425T043639
CREATED:20240621T172933Z
LAST-MODIFIED:20240621T172933Z
UID:13445-1722114000-1722117600@www.mostarskoljeto.ba
SUMMARY:Ko je lud
DESCRIPTION:Na platou ispod Starog mosta\, u subotu (27.07.)\, u organizaciji Narodnog pozorišta u Mostaru bit će odigrana predstava “Ko je lud” koja je rađena po motivima jednočinke “Idiot” Muza Pavlova\, u dramatizaciji i adaptaciji Nedžme Čizmo a u režiji Mirze Begovića.\nRadi se o komediji koja na jedan duhovit način poigrava se sa našom zbiljom i svakodnevnicom a opet nikoga ne vrijeđajući.Pacijent dolazi kod doktora tražeći potvrdu da je normalan i tu priča počinje….Radnja predstave prati čovjeka koji dolazi kod psihologa i traži uvjerenje.Naizgled jednostavan zadatak pretvara sa u ispit u kojem se više ne zna ko je lud.U ovoj komediji karaktera se na jedan duhovit način prikazuje sav besmisao “ganjanja papira” koji je manje više sličan u svim Ex Yu republikama. Kroz smijeh i komediju govorimo o gorućem problemu onoga gdje mi danas živimo\, našeg društva\, ali na jedan vrlo duhovit\, inteligentan način progovaramo o mjerama i granicama ljudske banalnosti i svijesti\, na šta je to sve čovjek spreman..\nU predstavi igraju: Zlatan Školjić i Adem Smailhodžić.
URL:https://www.mostarskoljeto.ba/kalendar/ko-je-lud/
LOCATION:Plato ispod Starog mosta
CATEGORIES:Mostarsko ljeto 2024,Predstava
ATTACH;FMTTYPE=image/jpeg:https://www.mostarskoljeto.ba/wp-content/uploads/2024/06/mlj24_2.jpg
END:VEVENT
END:VCALENDAR