BEGIN:VCALENDAR
VERSION:2.0
PRODID:-//Mostarsko ljeto - ECPv5.16.2.1//NONSGML v1.0//EN
CALSCALE:GREGORIAN
METHOD:PUBLISH
X-WR-CALNAME:Mostarsko ljeto
X-ORIGINAL-URL:https://www.mostarskoljeto.ba
X-WR-CALDESC:Events for Mostarsko ljeto
REFRESH-INTERVAL;VALUE=DURATION:PT1H
X-Robots-Tag:noindex
X-PUBLISHED-TTL:PT1H
BEGIN:VTIMEZONE
TZID:Europe/Sarajevo
BEGIN:DAYLIGHT
TZOFFSETFROM:+0100
TZOFFSETTO:+0200
TZNAME:CEST
DTSTART:20240331T010000
END:DAYLIGHT
BEGIN:STANDARD
TZOFFSETFROM:+0200
TZOFFSETTO:+0100
TZNAME:CET
DTSTART:20241027T010000
END:STANDARD
END:VTIMEZONE
BEGIN:VEVENT
DTSTART;TZID=Europe/Sarajevo:20240623T110000
DTEND;TZID=Europe/Sarajevo:20240623T120000
DTSTAMP:20260425T060825
CREATED:20240619T125718Z
LAST-MODIFIED:20240620T121826Z
UID:13390-1719140400-1719144000@www.mostarskoljeto.ba
SUMMARY:Legenda o rijeci Neretvi
DESCRIPTION:U Pozorištu lutaka u Mostaru\, u nedjelju\, 23.06.\, u 11 sati bit će odigrana predstava “Legenda o rijeci Neretvi” autora Muhameda Hamice Nametka\, u režiji Nedžada Maksumića i Armina Filipovića.\nOva legenda priča priču o nepoznatom došljaku žute kose\, koji je stigao u Mostar. Okupao se u Neretvi drugog avgusta i nestao u njenim virovima. Kasnije\, niko ne zna kako\, pojavio se\, nijem i zamišljen\, i nakon nekog vremena\, zauvijek otišao iz grada.\nU ovoj predstavi za djecu igra devetnaestero učenika mostarskih osnovnih škola\, uzrasta od 10 do 12 godina.\nU predstavi graju:Adna Derviškadić\, Ali Tojaga\, Almin Hebibović\, Amina Habibija\, Amina Jelovac\, Asja Ništović\, Asja Redžović\, Dani Demirović\, Dinn Kevro\, Ejla Pajević\, Hana Radoš\, Harun Kadribegović\, Lejla Kmetaš\, Muhammed Džafić\, Omar Hebibović\, Sara Macić\, Tarik Oručević\, Zara Hodžić i Zarah Elezović.
URL:https://www.mostarskoljeto.ba/kalendar/legenda-o-rijeci-neretvi/
LOCATION:Pozorište lutaka Mostar\, Braće Ćišića 15\, Mostar\, Hercegovacko-neretvanski Kanton\, 88104\, Bosnia and Herzegovina
CATEGORIES:Mostarsko ljeto 2024,Predstava
ATTACH;FMTTYPE=image/jpeg:https://www.mostarskoljeto.ba/wp-content/uploads/2024/06/mlj24_kalendar.jpg
END:VEVENT
BEGIN:VEVENT
DTSTART;TZID=Europe/Sarajevo:20240626T200000
DTEND;TZID=Europe/Sarajevo:20240626T210000
DTSTAMP:20260425T060826
CREATED:20240619T130633Z
LAST-MODIFIED:20240621T165551Z
UID:13392-1719432000-1719435600@www.mostarskoljeto.ba
SUMMARY:Lutka Sapiens
DESCRIPTION:U Pozorištu lutaka u Mostaru u srijedu (26.06.) će biti izvedena predstava “Lutke Sapiens” u režiji Ines Pašić\, sa početkom u 20 sati.\nAko je lutkar Homo Sapiens\, Šta su to njegove lutke?!\nLutke donose iz svijeta arhetipa nove argumente koje lutkar može integrisati i učiniti novim aspektom svoje svijesti. Jednom kad ih usvoji\, lutkar vjeruje da je on stvaralac i animator.\nInteresantno pitanje je; koliko ta ideja o samom sebi je dio uvjerenja subjektivne prirode i koliko je to jedna objektivna činjenica. Da li je kreativni proces samo u jednom pravcu od lutkara prema lutki?! Da li isključivo voljni akt lutkara je jedini koji ima privilegiju i zaslugu kreativnog čina.Kome pripadaju duboki impulsi koji motivišu kreativne procese?!\nTo su pitanja i dileme koje su prisutne u ovoj teatarskoj produkciji.Lutke Sapiens pretresaju i dovode u krizu narcisizam lutkara i njegovo uvjerenje da je centar kreativnog čina. Iznose jednu viziju gdje lutkar mora da se suoči sa relativnošću svog protagonizma. Zahvaljujući tome igra\, život i teatar dobivaju metafizički smisao otvoren svim mogućim interpretacijama i oslobođenju od okova vlastite važnosti. – Ines Pašić
URL:https://www.mostarskoljeto.ba/kalendar/lutka-sapiens/
LOCATION:Pozorište lutaka Mostar\, Braće Ćišića 15\, Mostar\, Hercegovacko-neretvanski Kanton\, 88104\, Bosnia and Herzegovina
CATEGORIES:Mostarsko ljeto 2024,Predstava
ATTACH;FMTTYPE=image/jpeg:https://www.mostarskoljeto.ba/wp-content/uploads/2024/06/mlj24_2.jpg
END:VEVENT
BEGIN:VEVENT
DTSTART;TZID=Europe/Sarajevo:20240627T200000
DTEND;TZID=Europe/Sarajevo:20240627T210000
DTSTAMP:20260425T060826
CREATED:20240619T130911Z
LAST-MODIFIED:20240621T165658Z
UID:13394-1719518400-1719522000@www.mostarskoljeto.ba
SUMMARY:Ne daj se\, generacijo
DESCRIPTION:U Narodnom pozorištu Mostar\, u četvrtak\, 27.06.\, u 20 sati\, u okviru manifestacije “Mostarsko ljeto”\, bit će odigrana predstava „Ne daj se\, generacijo” autora Alena Muratovića\, u režiji Maria Drmaća i Alena Muratovića\, nastala u koprodukciji Pozorišta mladih Sarajevo i Udruženja Moje Pozorište.\nRadnja prati priču o dvije prijateljice koje su nerazdvojene dugi niz godina. Tekst u osnovici tretira temu prijateljstva. Svakodnevnica i preživljavanje uz stereotipne\, nametnute forme osobama treće dobi. Želja za iskorakom\, neprihvatanjem standardizovanih obrazaca junakinje ove priče odvodi na novo i nepoznato putovanje. Odbijanjem konvecionalnosti dolaze do iskustava koje ih mijenjaju i život čine uzbudljivijim. Upuštaju se u avanture koje im omogućavaju iznenađenja. Otkrivaju život za kakav su mislili da je iza njih.\nGlumci Mario Drmać i Alen Muratović predstavljaju se u ženskim likovima Bebe i Ruže.
URL:https://www.mostarskoljeto.ba/kalendar/ne-daj-se-generacijo/
LOCATION:Narodno pozorište Mostar\, Brkića 2\, Mostar\, 88000
CATEGORIES:Mostarsko ljeto 2024,Predstava
ATTACH;FMTTYPE=image/jpeg:https://www.mostarskoljeto.ba/wp-content/uploads/2024/06/mlj24_2.jpg
END:VEVENT
END:VCALENDAR