BEGIN:VCALENDAR
VERSION:2.0
PRODID:-//Mostarsko ljeto - ECPv5.16.2.1//NONSGML v1.0//EN
CALSCALE:GREGORIAN
METHOD:PUBLISH
X-ORIGINAL-URL:https://www.mostarskoljeto.ba
X-WR-CALDESC:Events for Mostarsko ljeto
REFRESH-INTERVAL;VALUE=DURATION:PT1H
X-Robots-Tag:noindex
X-PUBLISHED-TTL:PT1H
BEGIN:VTIMEZONE
TZID:Europe/Sarajevo
BEGIN:DAYLIGHT
TZOFFSETFROM:+0100
TZOFFSETTO:+0200
TZNAME:CEST
DTSTART:20170326T010000
END:DAYLIGHT
BEGIN:STANDARD
TZOFFSETFROM:+0200
TZOFFSETTO:+0100
TZNAME:CET
DTSTART:20171029T010000
END:STANDARD
END:VTIMEZONE
BEGIN:VEVENT
DTSTART;TZID=Europe/Sarajevo:20170704T100000
DTEND;TZID=Europe/Sarajevo:20170711T190000
DTSTAMP:20260423T181702
CREATED:20170704T112656Z
LAST-MODIFIED:20180612T113123Z
UID:4432-1499162400-1499799600@www.mostarskoljeto.ba
SUMMARY:Ostajte ovdje
DESCRIPTION:Centar za kulturu je u sklopu manifesatcije “Mostarsko ljeto” ugostio Prosvjetu i njenu već tradicionalnu likovnu koloniju koja nosi naziv „Ostajte ovdje“. \nKolonija je\, na nekoliko lokacija u Hercegovini\, trajala do 8. jula\, a svrha ovog projekta je mladima dati šansu kako bi pokazali da su i oni dio kulture grada Mostara te ih pokušati zadržati u rodnom gradu. \nMlade umjetnike iz Mostara i okolice su nam predstavili predsjednik SPKD Prosvjeta Goran Kosanić i voditeljica kolonije Sabina Maslo.
URL:https://www.mostarskoljeto.ba/kalendar/ostajte-ovdje/
CATEGORIES:Likovna kolonija
ATTACH;FMTTYPE=image/jpeg:https://www.mostarskoljeto.ba/wp-content/uploads/2018/06/mostarsko-ljeto-ktg-likovna-kolonija-ostajte-ovdje-.jpg
ORGANIZER;CN="Mostarsko%20ljeto":MAILTO:info@mostarskoljeto.ba
END:VEVENT
END:VCALENDAR