BEGIN:VCALENDAR
VERSION:2.0
PRODID:-//Mostarsko ljeto - ECPv5.16.2.1//NONSGML v1.0//EN
CALSCALE:GREGORIAN
METHOD:PUBLISH
X-ORIGINAL-URL:https://www.mostarskoljeto.ba
X-WR-CALDESC:Events for Mostarsko ljeto
REFRESH-INTERVAL;VALUE=DURATION:PT1H
X-Robots-Tag:noindex
X-PUBLISHED-TTL:PT1H
BEGIN:VTIMEZONE
TZID:Europe/Sarajevo
BEGIN:DAYLIGHT
TZOFFSETFROM:+0100
TZOFFSETTO:+0200
TZNAME:CEST
DTSTART:20180325T010000
END:DAYLIGHT
BEGIN:STANDARD
TZOFFSETFROM:+0200
TZOFFSETTO:+0100
TZNAME:CET
DTSTART:20181028T010000
END:STANDARD
BEGIN:DAYLIGHT
TZOFFSETFROM:+0100
TZOFFSETTO:+0200
TZNAME:CEST
DTSTART:20190331T010000
END:DAYLIGHT
BEGIN:STANDARD
TZOFFSETFROM:+0200
TZOFFSETTO:+0100
TZNAME:CET
DTSTART:20191027T010000
END:STANDARD
BEGIN:DAYLIGHT
TZOFFSETFROM:+0100
TZOFFSETTO:+0200
TZNAME:CEST
DTSTART:20200329T010000
END:DAYLIGHT
BEGIN:STANDARD
TZOFFSETFROM:+0200
TZOFFSETTO:+0100
TZNAME:CET
DTSTART:20201025T010000
END:STANDARD
BEGIN:DAYLIGHT
TZOFFSETFROM:+0100
TZOFFSETTO:+0200
TZNAME:CEST
DTSTART:20210328T010000
END:DAYLIGHT
BEGIN:STANDARD
TZOFFSETFROM:+0200
TZOFFSETTO:+0100
TZNAME:CET
DTSTART:20211031T010000
END:STANDARD
BEGIN:DAYLIGHT
TZOFFSETFROM:+0100
TZOFFSETTO:+0200
TZNAME:CEST
DTSTART:20220327T010000
END:DAYLIGHT
BEGIN:STANDARD
TZOFFSETFROM:+0200
TZOFFSETTO:+0100
TZNAME:CET
DTSTART:20221030T010000
END:STANDARD
BEGIN:DAYLIGHT
TZOFFSETFROM:+0100
TZOFFSETTO:+0200
TZNAME:CEST
DTSTART:20230326T010000
END:DAYLIGHT
BEGIN:STANDARD
TZOFFSETFROM:+0200
TZOFFSETTO:+0100
TZNAME:CET
DTSTART:20231029T010000
END:STANDARD
END:VTIMEZONE
BEGIN:VEVENT
DTSTART;TZID=Europe/Sarajevo:20230723T203000
DTEND;TZID=Europe/Sarajevo:20230723T220000
DTSTAMP:20260423T192601
CREATED:20230619T162556Z
LAST-MODIFIED:20230619T165402Z
UID:13044-1690144200-1690149600@www.mostarskoljeto.ba
SUMMARY:Koncert: Mostarske kiše
DESCRIPTION:
URL:https://www.mostarskoljeto.ba/kalendar/mostarske-kise-2/
LOCATION:Plato ispod Starog mosta
CATEGORIES:Koncert,Mostarsko ljeto 2023
END:VEVENT
BEGIN:VEVENT
DTSTART;TZID=Europe/Sarajevo:20180723T213000
DTEND;TZID=Europe/Sarajevo:20180723T233000
DTSTAMP:20260423T192601
CREATED:20180622T104200Z
LAST-MODIFIED:20180719T031100Z
UID:5622-1532381400-1532388600@www.mostarskoljeto.ba
SUMMARY:Mostarske kiše
DESCRIPTION:[vc_row][vc_column][vc_column_text]Koncert umjetničkog društva “Mostarske kiše“ će se održati u ponedjeljak 23.07.2018. godine u 21:30 sat na Platou ispod Starog mosta. \nKoncert se priređuje povodom obilježavanja jubileja 20 godina rada Umjetničkog društva „Mostarske kiše“ i obilježavanja 14 godina od završetka obnove Starog Mosta\, čija ceremonija počinje u 20:00 sati na Starom mostu.[/vc_column_text][/vc_column][/vc_row]
URL:https://www.mostarskoljeto.ba/kalendar/mostarske-kise/
LOCATION:Plato ispod Starog mosta
CATEGORIES:Koncert
ATTACH;FMTTYPE=image/jpeg:https://www.mostarskoljeto.ba/wp-content/uploads/2018/06/mostarsko-ljeto-koncert-mostarskih-kisa-02.jpg
END:VEVENT
BEGIN:VEVENT
DTSTART;TZID=Europe/Sarajevo:20180722T203000
DTEND;TZID=Europe/Sarajevo:20180722T213000
DTSTAMP:20260423T192601
CREATED:20180719T030901Z
LAST-MODIFIED:20180719T030901Z
UID:7169-1532291400-1532295000@www.mostarskoljeto.ba
SUMMARY:Izložba: „Ljubav kroz kapljice kiše“
DESCRIPTION:[vc_row][vc_column][vc_column_text]Izložba slika Umjetničkog društva “Mostarske kiše” od 1997-2018. godine. \nOtvaranje izložbe je 22.07.2018. godine u 20 : 30h\, u galeriji Centra za kulturu Mostar. Izložba je otvorena u periodu od 22.07-24.07.2018. godine.[/vc_column_text][/vc_column][/vc_row]
URL:https://www.mostarskoljeto.ba/kalendar/izlozba-ljubav-kroz-kapljice-kise/
LOCATION:Centar za kulturu Mostar\, Rade Bitange 13\, Mostar\, Hercegovačko-neretvanski kanton\, 88000\, Bosnia and Herzegovina
CATEGORIES:Izložba
ATTACH;FMTTYPE=image/jpeg:https://www.mostarskoljeto.ba/wp-content/uploads/2018/07/mostarsko-ljeto-dogadjaji-koncert-mostarske-kise.jpg
END:VEVENT
END:VCALENDAR