BEGIN:VCALENDAR
VERSION:2.0
PRODID:-//Mostarsko ljeto - ECPv5.16.2.1//NONSGML v1.0//EN
CALSCALE:GREGORIAN
METHOD:PUBLISH
X-WR-CALNAME:Mostarsko ljeto
X-ORIGINAL-URL:https://www.mostarskoljeto.ba
X-WR-CALDESC:Events for Mostarsko ljeto
REFRESH-INTERVAL;VALUE=DURATION:PT1H
X-Robots-Tag:noindex
X-PUBLISHED-TTL:PT1H
BEGIN:VTIMEZONE
TZID:Europe/Sarajevo
BEGIN:DAYLIGHT
TZOFFSETFROM:+0100
TZOFFSETTO:+0200
TZNAME:CEST
DTSTART:20210328T010000
END:DAYLIGHT
BEGIN:STANDARD
TZOFFSETFROM:+0200
TZOFFSETTO:+0100
TZNAME:CET
DTSTART:20211031T010000
END:STANDARD
END:VTIMEZONE
BEGIN:VEVENT
DTSTART;TZID=Europe/Sarajevo:20210625T203000
DTEND;TZID=Europe/Sarajevo:20210625T213000
DTSTAMP:20260423T124127
CREATED:20210619T232126Z
LAST-MODIFIED:20210622T154352Z
UID:11811-1624653000-1624656600@www.mostarskoljeto.ba
SUMMARY:Izložba "Mi karijatide i atlanti"
DESCRIPTION:[vc_row][vc_column][vc_single_image image=”11937” img_size=”large” alignment=”center”][vc_column_text]Adis Lukač je rođen u Sarajevu 1982. godine\,  gdje je završio Srednju umjetničku školu i magistrirao na Akademiji likovnih umjetnosti na odsjeku skulpture. Učestvovao je na nekoliko internacionalnih izložbi i simpozija skulpture\, član ULUBiH-a s kojim i izlaže. Autor je spomenika prvom bosanskom kralju Tvrtku I Kotromaniću u Tuzli\, biste narodnom heroju Ivanu Goranu Kovačiću u Sarajevu\, te reljefa Hasanaginice postavljenog u Narodnom pozorištu u Sarajevu. Uz klasičnu skulpturu bavi se i slikarstvom\, te tako u svojim izložbama kombinuje različite medije: crtež\, sliku i skulpturu. \nKao kipar Adis Lukač je odavno krenuo u promišljanje o teretima savremenog čovjeka zarobljenog u pandemiji. U novonastalom svijetu\, zasnovanom na postulatima distance i izolacije\, umjetnost postaje jedan od mehanizama potrage sa sagovornicima\, kao i traganja čovjeka za vlastitim bićem; kada već ne možemo fizički putovati\, možemo oblikovati prostor i vrijeme snagom misli i kreativnošću. \nUmjetnički ciklus Adisa Lukača je  zaokružena  cjelina kojoj je početna tačka jedno od umjetnikovih predpandemijskih putovanja u Grčku\, a jedna od stanica pandemija i upravo ovaj trenutak koji nam izmiče. \nO izložbi Adis Lukač\, između ostalog\, kaže i ovo: „Funkcija karijatida i atlanta su stubovi koji su nosili hramove u antičkoj Grčkoj i to je jedna paralela koju sam povukao s ljudima danas\, posebno ženama koje su nosile popriličan teret\, a u isto vrijeme su stubovi na koje se mi oslanjamo da bismo sami sebe ostvarili. I to je neki omaž ovim stubovima i osloncima u našim životima”. \nAutor: Adis Lukač \nCentar za kulturu Mostar[/vc_column_text][/vc_column][/vc_row]
URL:https://www.mostarskoljeto.ba/kalendar/izlozba-mi-karijatide-i-atlanti/
LOCATION:Centar za kulturu Mostar\, Rade Bitange 13\, Mostar\, Hercegovačko-neretvanski kanton\, 88000\, Bosnia and Herzegovina
CATEGORIES:Izložba,Mostarsko ljeto 2021
ATTACH;FMTTYPE=image/jpeg:https://www.mostarskoljeto.ba/wp-content/uploads/2021/06/mostarskoljeto-2021-event-900px-copy.jpg
END:VEVENT
END:VCALENDAR