BEGIN:VCALENDAR
VERSION:2.0
PRODID:-//Mostarsko ljeto - ECPv5.16.2.1//NONSGML v1.0//EN
CALSCALE:GREGORIAN
METHOD:PUBLISH
X-ORIGINAL-URL:https://www.mostarskoljeto.ba
X-WR-CALDESC:Events for Mostarsko ljeto
REFRESH-INTERVAL;VALUE=DURATION:PT1H
X-Robots-Tag:noindex
X-PUBLISHED-TTL:PT1H
BEGIN:VTIMEZONE
TZID:Europe/Sarajevo
BEGIN:DAYLIGHT
TZOFFSETFROM:+0100
TZOFFSETTO:+0200
TZNAME:CEST
DTSTART:20210328T010000
END:DAYLIGHT
BEGIN:STANDARD
TZOFFSETFROM:+0200
TZOFFSETTO:+0100
TZNAME:CET
DTSTART:20211031T010000
END:STANDARD
END:VTIMEZONE
BEGIN:VEVENT
DTSTART;TZID=Europe/Sarajevo:20210620T110000
DTEND;TZID=Europe/Sarajevo:20210620T120000
DTSTAMP:20260423T205732
CREATED:20210618T132532Z
LAST-MODIFIED:20210619T185404Z
UID:11718-1624186800-1624190400@www.mostarskoljeto.ba
SUMMARY:Predstava "Mačak u čizmama"
DESCRIPTION:[vc_row][vc_column][vc_row_inner][vc_column_inner][vc_single_image image=”11719” img_size=”large” alignment=”center”][/vc_column_inner][/vc_row_inner][vc_column_text]Predstava “Mačak u čizmama” režirana prema tekstu Charles Perraulta govori o jednom mlinaru čija je jedina ostavština za njegova tri sina bila njegov mlin\, magarac i mačka. Podjela je uskoro bila učinjena\, ali bez prisutnosti službenika\, kako im oni ne bi pojeli ionako siromašnu ostavštinu. Tako je najstariji sin uzeo mlin\, srednji magarca\, a najmlađem je preostao samo mačak. \nAUTORSKI TIM \n\nRežija: Elzbieta Eysymont\nAsistent režije: Muhamed Nametak\nNapisao: Charles Perrault\nPrevod sa bugarskog: Roumiana Nikolova\nRedakcija teksta i prepjev songova: Nedžad Maksumić i Diana Ondelj – Maksumić\nScenograf\, kostimograf\, kreator lutaka\, slikarski radovi i design svjetla: Ivan Conev\nIzrada lutaka i scenografije: Ivanka Getova\nIzrada kostima: Mensur Kazazić\nIzrada dekora: Mirsad Bijedić\nTehničko vođstvo: Amer Ćatić\nMuzika: Milen Vassilev\n\n\n\nIGRAJU\n\nDiana Ondelj Maksumić – Prvi glumac\, Mačak u čizmama\nSergio Radoš – Drugi glumac\, Najmlađi brat\, Žeteoci\, Kosci\nNedžad Maksumić – Treći glumac\, Car\, Ljudožder\nNermina Denjo – Četvrti glumac\, Princeza\n\n\n\n\n\n[/vc_column_text][/vc_column][/vc_row]
URL:https://www.mostarskoljeto.ba/kalendar/predstava-macak-u-cizmama/
LOCATION:Pozorište lutaka Mostar\, Braće Ćišića 15\, Mostar\, Hercegovacko-neretvanski Kanton\, 88104\, Bosnia and Herzegovina
CATEGORIES:Mostarsko ljeto 2021,Predstava
ATTACH;FMTTYPE=image/jpeg:https://www.mostarskoljeto.ba/wp-content/uploads/2021/06/mlj2021-predstava-macak-u-cizmama-najava-2.jpg
END:VEVENT
END:VCALENDAR