BEGIN:VCALENDAR
VERSION:2.0
PRODID:-//Mostarsko ljeto - ECPv5.16.2.1//NONSGML v1.0//EN
CALSCALE:GREGORIAN
METHOD:PUBLISH
X-WR-CALNAME:Mostarsko ljeto
X-ORIGINAL-URL:https://www.mostarskoljeto.ba
X-WR-CALDESC:Events for Mostarsko ljeto
REFRESH-INTERVAL;VALUE=DURATION:PT1H
X-Robots-Tag:noindex
X-PUBLISHED-TTL:PT1H
BEGIN:VTIMEZONE
TZID:Europe/Sarajevo
BEGIN:DAYLIGHT
TZOFFSETFROM:+0100
TZOFFSETTO:+0200
TZNAME:CEST
DTSTART:20180325T010000
END:DAYLIGHT
BEGIN:STANDARD
TZOFFSETFROM:+0200
TZOFFSETTO:+0100
TZNAME:CET
DTSTART:20181028T010000
END:STANDARD
END:VTIMEZONE
BEGIN:VEVENT
DTSTART;TZID=Europe/Sarajevo:20180712T220000
DTEND;TZID=Europe/Sarajevo:20180713T000000
DTSTAMP:20260421T103949
CREATED:20180612T115754Z
LAST-MODIFIED:20180707T141845Z
UID:5599-1531432800-1531440000@www.mostarskoljeto.ba
SUMMARY:Povratak iskonskom - Alica\, Đani i Anel Jakirović
DESCRIPTION:Ime Alice Jakirovića predstavlja već etablirani stvaralački toponim u širim bh. koordionatama likovne umjetnosti. Njegov snažni likovni eros\, osobito na mostarske teme\, već je uveliko prepoznatljiv\, ali i brojnošću umjetničkih djela\, raznoslojno plodan. \nStvaralaštvo Alice Jakirovića duboko je natapano i sedimentirano u mostarski zavičajni kolorit\, itekako se potvrđuje svojom originalnošću pristupa\, u ciklusima u kojima dominira Stari most.\nTragom djela oca Alice na široke transferzale umjetnosti dali su se i njegovi sinovi Anel i Đani. Zajednička izložba u okviru festivala Mostarsko ljeto 2018 pravi je trijumf svojevrsne obiteljske likovne manufakture. \nBrižljivo su Jakirovići selektirali osobne umjetničke opuse\, pa je izložba i svojevrstan eksplikativ njihovog ukupnog rafinmana. \nSvaka pojedinačna poetika Jakirovića zaseban je doprinos ponudi mostarske likovne pozornice\, pa je odnos prema njihovim djelima potrebno analizirati i u okviru njihovih opusa\, ali i kontekstirati u mostarski i bh. likovnii kompozit djela ovih stvaralaca. \nIzložba „Povratak iskonskom“\, kako i sam naziv kaže je povratak izvornom u svakom smislu\, a prije svega\, osnovnim vrijednostima u kojima su odnos sa porodicom\, okolinom\, moralnošću i na kraju krajeva mediju izražavanja. \nRadovi koji su nastali u proteklom periodu rađeni su tehnikom akrilik na platnu i ba-reljef tehnikom\, kombinovano sa opremom izrađenom u okruženju. \nNa izložbi bi trebalo biti prikazano oko 60 radova.
URL:https://www.mostarskoljeto.ba/kalendar/povratak-iskonskom-alica-dani-i-anel-jakirovic/
LOCATION:Centar za kulturu Mostar\, Rade Bitange 13\, Mostar\, Hercegovačko-neretvanski kanton\, 88000\, Bosnia and Herzegovina
CATEGORIES:Izložba
ATTACH;FMTTYPE=image/jpeg:https://www.mostarskoljeto.ba/wp-content/uploads/2018/06/mostarsko-ljeto-izlozba-povratak-iskonskom-event.jpg
END:VEVENT
END:VCALENDAR