BEGIN:VCALENDAR
VERSION:2.0
PRODID:-//Mostarsko ljeto - ECPv5.16.2.1//NONSGML v1.0//EN
CALSCALE:GREGORIAN
METHOD:PUBLISH
X-WR-CALNAME:Mostarsko ljeto
X-ORIGINAL-URL:https://www.mostarskoljeto.ba
X-WR-CALDESC:Events for Mostarsko ljeto
REFRESH-INTERVAL;VALUE=DURATION:PT1H
X-Robots-Tag:noindex
X-PUBLISHED-TTL:PT1H
BEGIN:VTIMEZONE
TZID:Europe/Sarajevo
BEGIN:DAYLIGHT
TZOFFSETFROM:+0100
TZOFFSETTO:+0200
TZNAME:CEST
DTSTART:20240331T010000
END:DAYLIGHT
BEGIN:STANDARD
TZOFFSETFROM:+0200
TZOFFSETTO:+0100
TZNAME:CET
DTSTART:20241027T010000
END:STANDARD
END:VTIMEZONE
BEGIN:VEVENT
DTSTART;TZID=Europe/Sarajevo:20240622T190000
DTEND;TZID=Europe/Sarajevo:20240622T200000
DTSTAMP:20260423T132215
CREATED:20240619T125238Z
LAST-MODIFIED:20240620T120704Z
UID:13387-1719082800-1719086400@www.mostarskoljeto.ba
SUMMARY:Mostar u stilu velikih majstora
DESCRIPTION:U subotu\, 22.06.\, u 19 sati\, u Muzeju Hercegovine Odjel Stari Most (Labirint) bit će upriličena izložba AI slika „Mostar u stilu velikih majstora“ autorice Mie Fendi.\nTehnika radova je digitalni print\, nastao korištenjem umjetne inteligencije (AI) u svrhu postizanja vizuelnog stila velikih majstora likovne umjetnosti kao što su Picasso\, Van Gogh\, Rembrandt\, Giorgione\, Gustav Klimt i druga velika imena iz istorije umjetnosti.\nMia Fendi ima za cilj da umjetnost učini dostupnom svima\, posebno onima koji se potencijalno ustručavaju da uđu u tradicionalni galerijski prostor. Ova umjetnička postavka stremi da ponuka radoznalost u mladim umovima\, tako što će ih uvesti u fascinantni svijet kreativnosti\,potpomognut umjetnom inteligencijom i povezanošću s bezvremenskim remek-djelima prošlosti. Kombinirajući savremenu inovaciju umjetne inteligencije s bezvremenskim talentom velikih majstora\, ova postavka poziva posjetioce da istražuju\, uživaju\, uče i cijene umjetnost na novi\, moderan i privlačan način.\nSvaka izložena slika bila bi upotpunjena popratnim edukativnim tekstom o umjetniku (kratka biografija i značaj za istoriju umjetnosti) na bosanskom i engleskom jeziku.
URL:https://www.mostarskoljeto.ba/kalendar/mostar-u-stilu-velikih-majstora/
LOCATION:Muzej Hercegovine (Odjel Stari Most – Labirint)
CATEGORIES:Izložba,Mostarsko ljeto 2024
ATTACH;FMTTYPE=image/jpeg:https://www.mostarskoljeto.ba/wp-content/uploads/2024/06/mlj24_2.jpg
END:VEVENT
END:VCALENDAR