BEGIN:VCALENDAR
VERSION:2.0
PRODID:-//Mostarsko ljeto - ECPv5.16.2.1//NONSGML v1.0//EN
CALSCALE:GREGORIAN
METHOD:PUBLISH
X-ORIGINAL-URL:https://www.mostarskoljeto.ba
X-WR-CALDESC:Events for Mostarsko ljeto
REFRESH-INTERVAL;VALUE=DURATION:PT1H
X-Robots-Tag:noindex
X-PUBLISHED-TTL:PT1H
BEGIN:VTIMEZONE
TZID:Europe/Sarajevo
BEGIN:DAYLIGHT
TZOFFSETFROM:+0100
TZOFFSETTO:+0200
TZNAME:CEST
DTSTART:20240331T010000
END:DAYLIGHT
BEGIN:STANDARD
TZOFFSETFROM:+0200
TZOFFSETTO:+0100
TZNAME:CET
DTSTART:20241027T010000
END:STANDARD
END:VTIMEZONE
BEGIN:VEVENT
DTSTART;TZID=Europe/Sarajevo:20240710T193000
DTEND;TZID=Europe/Sarajevo:20240710T210000
DTSTAMP:20260422T103429
CREATED:20240619T140651Z
LAST-MODIFIED:20240621T170815Z
UID:13413-1720639800-1720645200@www.mostarskoljeto.ba
SUMMARY:Tespih
DESCRIPTION:Promocija zbirke poezije „Tespih“ autora Harisa Plojovića bit će upriličena u Narodnoj biblioteci Mostar (odjeljenje Luka)\, u srijedu (10.07.) sa početkom u 19:30 sati.\nHaris Plojović dobitnik nagrade 25. novembar za neobjavljeni rukopis. Rođen je 2000. godine u Novom Pazaru. Osnovno i srednje obrazovanje stekao u rodnom gradu. U Beogradu završio studij medicine.\nPisana u slobodnom stihu\, ova sasvim moderna zbirka donosi sedamdeset i tri pjesme. Čest izostanak posebno istančanog osjećaja za ritam autor nadomješta pjesničkim slikama i čudesnom mogućnošću sažimanja semantičkih slojeva kroz kontraste. Bilo da pjeva o svome iskustvu ili pokušava dokučiti smisao narodnih običaja u Novom Pazaru\, pjesnik uspijeva u jeziku zalediti trenutak i izgraditi upečatljive pjesničke slike.
URL:https://www.mostarskoljeto.ba/kalendar/tespih/
LOCATION:Narodna biblioteka (odjeljenje Luka)\, Mostar\, Bosnia and Herzegovina
CATEGORIES:Mostarsko ljeto 2024,Promocija zbirke poezije
ATTACH;FMTTYPE=image/jpeg:https://www.mostarskoljeto.ba/wp-content/uploads/2024/06/mlj24_2.jpg
END:VEVENT
END:VCALENDAR